BEGIN:VCALENDAR
VERSION:2.0
PRODID:-//William H. Frazier Elementary School - ECPv6.15.17.1//NONSGML v1.0//EN
CALSCALE:GREGORIAN
METHOD:PUBLISH
X-WR-CALNAME:William H. Frazier Elementary School
X-ORIGINAL-URL:https://whf.fuesd.org
X-WR-CALDESC:Events for William H. Frazier Elementary School
REFRESH-INTERVAL;VALUE=DURATION:PT1H
X-Robots-Tag:noindex
X-PUBLISHED-TTL:PT1H
BEGIN:VTIMEZONE
TZID:America/Los_Angeles
BEGIN:DAYLIGHT
TZOFFSETFROM:-0800
TZOFFSETTO:-0700
TZNAME:PDT
DTSTART:20250309T100000
END:DAYLIGHT
BEGIN:STANDARD
TZOFFSETFROM:-0700
TZOFFSETTO:-0800
TZNAME:PST
DTSTART:20251102T090000
END:STANDARD
BEGIN:DAYLIGHT
TZOFFSETFROM:-0800
TZOFFSETTO:-0700
TZNAME:PDT
DTSTART:20260308T100000
END:DAYLIGHT
BEGIN:STANDARD
TZOFFSETFROM:-0700
TZOFFSETTO:-0800
TZNAME:PST
DTSTART:20261101T090000
END:STANDARD
BEGIN:DAYLIGHT
TZOFFSETFROM:-0800
TZOFFSETTO:-0700
TZNAME:PDT
DTSTART:20270314T100000
END:DAYLIGHT
BEGIN:STANDARD
TZOFFSETFROM:-0700
TZOFFSETTO:-0800
TZNAME:PST
DTSTART:20271107T090000
END:STANDARD
END:VTIMEZONE
BEGIN:VEVENT
DTSTART;VALUE=DATE:20260417
DTEND;VALUE=DATE:20260418
DTSTAMP:20260420T083019
CREATED:20250820T030801Z
LAST-MODIFIED:20260417T212252Z
UID:10000794-1776384000-1776470399@whf.fuesd.org
SUMMARY:4th Grade to De Luz (Gomez)
DESCRIPTION:
URL:https://whf.fuesd.org/event/4th-grade-to-de-luz-gomez/
END:VEVENT
BEGIN:VEVENT
DTSTART;TZID=America/Los_Angeles:20260416T170000
DTEND;TZID=America/Los_Angeles:20260416T183000
DTSTAMP:20260420T083019
CREATED:20260318T170529Z
LAST-MODIFIED:20260416T210803Z
UID:10000833-1776358800-1776364200@whf.fuesd.org
SUMMARY:PTSA Spring Family Night
DESCRIPTION:
URL:https://whf.fuesd.org/event/ptsa-spring-family-night/
END:VEVENT
BEGIN:VEVENT
DTSTART;TZID=America/Los_Angeles:20260416T160000
DTEND;TZID=America/Los_Angeles:20260416T170000
DTSTAMP:20260420T083019
CREATED:20260318T170529Z
LAST-MODIFIED:20260416T210803Z
UID:10000834-1776355200-1776358800@whf.fuesd.org
SUMMARY:PTSA General Meeting
DESCRIPTION:2026-27 PTSA Board Elections
URL:https://whf.fuesd.org/event/ptsa-general-meeting-3/
END:VEVENT
BEGIN:VEVENT
DTSTART;VALUE=DATE:20260416
DTEND;VALUE=DATE:20260417
DTSTAMP:20260420T083019
CREATED:20260318T170529Z
LAST-MODIFIED:20260416T210803Z
UID:10000832-1776297600-1776383999@whf.fuesd.org
SUMMARY:TK Field Trip to Buzy Bee
DESCRIPTION:
URL:https://whf.fuesd.org/event/tk-field-trip-to-buzy-bee/
END:VEVENT
BEGIN:VEVENT
DTSTART;VALUE=DATE:20260416
DTEND;VALUE=DATE:20260417
DTSTAMP:20260420T083019
CREATED:20260318T170529Z
LAST-MODIFIED:20260416T210803Z
UID:10000835-1776297600-1776383999@whf.fuesd.org
SUMMARY:Spring Family Night & PTA Meeting
DESCRIPTION:
URL:https://whf.fuesd.org/event/spring-family-night-pta-meeting-2/
END:VEVENT
BEGIN:VEVENT
DTSTART;VALUE=DATE:20260416
DTEND;VALUE=DATE:20260417
DTSTAMP:20260420T083019
CREATED:20250820T030801Z
LAST-MODIFIED:20260416T210803Z
UID:10000795-1776297600-1776383999@whf.fuesd.org
SUMMARY:4th Grade to De Luz (Emaus)
DESCRIPTION:
URL:https://whf.fuesd.org/event/4th-grade-to-de-luz-emaus/
END:VEVENT
BEGIN:VEVENT
DTSTART;VALUE=DATE:20260415
DTEND;VALUE=DATE:20260416
DTSTAMP:20260420T083019
CREATED:20250717T020842Z
LAST-MODIFIED:20260415T205755Z
UID:10000763-1776211200-1776297599@whf.fuesd.org
SUMMARY:Military Child Day - wear purple
DESCRIPTION:
URL:https://whf.fuesd.org/event/military-child-day-wear-purple/
END:VEVENT
BEGIN:VEVENT
DTSTART;TZID=America/Los_Angeles:20260414T090000
DTEND;TZID=America/Los_Angeles:20260414T100000
DTSTAMP:20260420T083019
CREATED:20260131T001052Z
LAST-MODIFIED:20260131T001052Z
UID:10000824-1776157200-1776160800@whf.fuesd.org
SUMMARY:Kinder Round Up
DESCRIPTION:FSA\, LAP\, LOE\, MFP\, SOS\, WHF
URL:https://whf.fuesd.org/event/kinder-round-up-4/
END:VEVENT
BEGIN:VEVENT
DTSTART;TZID=America/Los_Angeles:20260414T090000
DTEND;TZID=America/Los_Angeles:20260414T100000
DTSTAMP:20260420T083019
CREATED:20260131T001052Z
LAST-MODIFIED:20260413T205446Z
UID:10000825-1776157200-1776160800@whf.fuesd.org
SUMMARY:Kinder Round Up
DESCRIPTION:FSA\, LAP\, LOE\, MFP\, SOS\, WHF
URL:https://whf.fuesd.org/event/kinder-round-up-3/
END:VEVENT
BEGIN:VEVENT
DTSTART;VALUE=DATE:20260414
DTEND;VALUE=DATE:20260415
DTSTAMP:20260420T083019
CREATED:20260318T170529Z
LAST-MODIFIED:20260318T170529Z
UID:10000826-1776124800-1776211199@whf.fuesd.org
SUMMARY:1st Grade Field Trip - Legoland Aquarium
DESCRIPTION:
URL:https://whf.fuesd.org/event/1st-grade-field-trip-legoland-aquarium-2/
END:VEVENT
BEGIN:VEVENT
DTSTART;VALUE=DATE:20260414
DTEND;VALUE=DATE:20260415
DTSTAMP:20260420T083019
CREATED:20260318T170529Z
LAST-MODIFIED:20260414T205337Z
UID:10000831-1776124800-1776211199@whf.fuesd.org
SUMMARY:1st Grade Field Trip - Legoland Aquarium
DESCRIPTION:
URL:https://whf.fuesd.org/event/1st-grade-field-trip-legoland-aquarium/
END:VEVENT
BEGIN:VEVENT
DTSTART;VALUE=DATE:20260413
DTEND;VALUE=DATE:20260418
DTSTAMP:20260420T083019
CREATED:20260318T170529Z
LAST-MODIFIED:20260417T212252Z
UID:10000830-1776038400-1776470399@whf.fuesd.org
SUMMARY:Spring Bookfair
DESCRIPTION:
URL:https://whf.fuesd.org/event/spring-bookfair/
END:VEVENT
BEGIN:VEVENT
DTSTART;TZID=America/Los_Angeles:20260406T000000
DTEND;TZID=America/Los_Angeles:20260407T000000
DTSTAMP:20260420T083019
CREATED:20260318T170529Z
LAST-MODIFIED:20260406T200853Z
UID:10000829-1775433600-1775520000@whf.fuesd.org
SUMMARY:Non-Student Day
DESCRIPTION:
URL:https://whf.fuesd.org/event/non-student-day/
END:VEVENT
BEGIN:VEVENT
DTSTART;VALUE=DATE:20260406
DTEND;VALUE=DATE:20260407
DTSTAMP:20260420T083019
CREATED:20250717T020842Z
LAST-MODIFIED:20260406T200853Z
UID:10000762-1775433600-1775519999@whf.fuesd.org
SUMMARY:Assistant Principal's Week
DESCRIPTION:
URL:https://whf.fuesd.org/event/assistant-principals-week/
END:VEVENT
BEGIN:VEVENT
DTSTART;TZID=America/Los_Angeles:20260330T000000
DTEND;TZID=America/Los_Angeles:20260404T000000
DTSTAMP:20260420T083019
CREATED:20250717T020842Z
LAST-MODIFIED:20260403T200753Z
UID:10000761-1774828800-1775260800@whf.fuesd.org
SUMMARY:Spring Break
DESCRIPTION:
URL:https://whf.fuesd.org/event/spring-break-3/
END:VEVENT
BEGIN:VEVENT
DTSTART;VALUE=DATE:20260326
DTEND;VALUE=DATE:20260327
DTSTAMP:20260420T083019
CREATED:20260318T170528Z
LAST-MODIFIED:20260320T195259Z
UID:10000828-1774483200-1774569599@whf.fuesd.org
SUMMARY:3rd Grade Field Trip to Birch Aquarium
DESCRIPTION:
URL:https://whf.fuesd.org/event/3rd-grade-field-trip-to-birch-aquarium/
END:VEVENT
BEGIN:VEVENT
DTSTART;VALUE=DATE:20260325
DTEND;VALUE=DATE:20260326
DTSTAMP:20260420T083019
CREATED:20250606T225346Z
LAST-MODIFIED:20260320T195259Z
UID:10000719-1774396800-1774483199@whf.fuesd.org
SUMMARY:WHF Lunch on the Lawn
DESCRIPTION:
URL:https://whf.fuesd.org/event/whf-lunch-on-the-lawn-2/
END:VEVENT
BEGIN:VEVENT
DTSTART;TZID=America/Los_Angeles:20260320T081500
DTEND;TZID=America/Los_Angeles:20260320T084500
DTSTAMP:20260420T083019
CREATED:20260318T170528Z
LAST-MODIFIED:20260320T073901Z
UID:10000827-1773994500-1773996300@whf.fuesd.org
SUMMARY:LCAP Input Meeting
DESCRIPTION:
URL:https://whf.fuesd.org/event/lcap-input-meeting/
END:VEVENT
BEGIN:VEVENT
DTSTART;TZID=America/Los_Angeles:20260311T083000
DTEND;TZID=America/Los_Angeles:20260311T090000
DTSTAMP:20260420T083019
CREATED:20250609T230746Z
LAST-MODIFIED:20260222T021711Z
UID:10000724-1773217800-1773219600@whf.fuesd.org
SUMMARY:Leadership Ceremony/Tri 2 Awards
DESCRIPTION:Join with Google Meet: https://meet.google.com/boa-bnbs-qpm\nOr dial: (US) +1 563-562-6605 PIN: 497453887#\nMore phone numbers: https://tel.meet/boa-bnbs-qpm?pin=9728525414771&hs=7\nLearn more about Meet at: https://support.google.com/a/users/answer/9282720
URL:https://whf.fuesd.org/event/leadership-ceremony-tri-2-awards/
END:VEVENT
BEGIN:VEVENT
DTSTART;TZID=America/Los_Angeles:20260306T000000
DTEND;TZID=America/Los_Angeles:20260307T000000
DTSTAMP:20260420T083019
CREATED:20250717T020841Z
LAST-MODIFIED:20260222T021711Z
UID:10000758-1772755200-1772841600@whf.fuesd.org
SUMMARY:Report Cards Go Home
DESCRIPTION:
URL:https://whf.fuesd.org/event/report-cards-go-home-7/
END:VEVENT
BEGIN:VEVENT
DTSTART;TZID=America/Los_Angeles:20260305T000000
DTEND;TZID=America/Los_Angeles:20260307T000000
DTSTAMP:20260420T083019
CREATED:20250717T020841Z
LAST-MODIFIED:20260222T021711Z
UID:10000759-1772668800-1772841600@whf.fuesd.org
SUMMARY:Parent/Teacher Conference (12:20 dismissal Thursday & Friday)
DESCRIPTION:
URL:https://whf.fuesd.org/event/parent-teacher-conference-1220-dismissal-thursday-friday/
END:VEVENT
BEGIN:VEVENT
DTSTART;VALUE=DATE:20260302
DTEND;VALUE=DATE:20260303
DTSTAMP:20260420T083019
CREATED:20250820T030800Z
LAST-MODIFIED:20260222T021711Z
UID:10000793-1772409600-1772495999@whf.fuesd.org
SUMMARY:5th Grade to De Luz (Smith)
DESCRIPTION:
URL:https://whf.fuesd.org/event/5th-grade-to-de-luz-smith-2/
END:VEVENT
BEGIN:VEVENT
DTSTART;VALUE=DATE:20260302
DTEND;VALUE=DATE:20260303
DTSTAMP:20260420T083019
CREATED:20250717T020841Z
LAST-MODIFIED:20260222T021711Z
UID:10000756-1772409600-1772495999@whf.fuesd.org
SUMMARY:Read Across America Week
DESCRIPTION:
URL:https://whf.fuesd.org/event/read-across-america-week-3/
END:VEVENT
BEGIN:VEVENT
DTSTART;VALUE=DATE:20260227
DTEND;VALUE=DATE:20260228
DTSTAMP:20260420T083019
CREATED:20250820T030759Z
LAST-MODIFIED:20260222T021711Z
UID:10000790-1772150400-1772236799@whf.fuesd.org
SUMMARY:5th Grade to De Luz (Smith)
DESCRIPTION:
URL:https://whf.fuesd.org/event/5th-grade-to-de-luz-smith/
END:VEVENT
BEGIN:VEVENT
DTSTART;VALUE=DATE:20260225
DTEND;VALUE=DATE:20260227
DTSTAMP:20260420T083019
CREATED:20250820T030759Z
LAST-MODIFIED:20260222T021711Z
UID:10000791-1771977600-1772150399@whf.fuesd.org
SUMMARY:5th Grade to De Luz (Bradley)
DESCRIPTION:
URL:https://whf.fuesd.org/event/5th-grade-to-de-luz-bradley-3/
END:VEVENT
BEGIN:VEVENT
DTSTART;VALUE=DATE:20260223
DTEND;VALUE=DATE:20260225
DTSTAMP:20260420T083019
CREATED:20250820T030800Z
LAST-MODIFIED:20260222T021711Z
UID:10000792-1771804800-1771977599@whf.fuesd.org
SUMMARY:5th Grade to De Luz (Hoffman)
DESCRIPTION:
URL:https://whf.fuesd.org/event/5th-grade-to-de-luz-hoffman/
END:VEVENT
BEGIN:VEVENT
DTSTART;TZID=America/Los_Angeles:20260216T000000
DTEND;TZID=America/Los_Angeles:20260221T000000
DTSTAMP:20260420T083019
CREATED:20250717T020841Z
LAST-MODIFIED:20260221T021351Z
UID:10000755-1771200000-1771632000@whf.fuesd.org
SUMMARY:Presidents' Day Break
DESCRIPTION:
URL:https://whf.fuesd.org/event/presidents-day-break-2/
END:VEVENT
BEGIN:VEVENT
DTSTART;TZID=America/Los_Angeles:20260213T081500
DTEND;TZID=America/Los_Angeles:20260213T090000
DTSTAMP:20260420T083019
CREATED:20250717T020841Z
LAST-MODIFIED:20260213T010519Z
UID:10000753-1770970500-1770973200@whf.fuesd.org
SUMMARY:Coffee with the Principal
DESCRIPTION:
URL:https://whf.fuesd.org/event/coffee-with-the-principal-3/
END:VEVENT
BEGIN:VEVENT
DTSTART;TZID=America/Los_Angeles:20260213T081000
DTEND;TZID=America/Los_Angeles:20260213T102000
DTSTAMP:20260420T083019
CREATED:20251107T105721Z
LAST-MODIFIED:20260213T010519Z
UID:10000811-1770970200-1770978000@whf.fuesd.org
SUMMARY:TK Family Connection Day
DESCRIPTION:
URL:https://whf.fuesd.org/event/tk-family-connection-day-2/
END:VEVENT
BEGIN:VEVENT
DTSTART;TZID=America/Los_Angeles:20260213T000000
DTEND;TZID=America/Los_Angeles:20260214T000000
DTSTAMP:20260420T083019
CREATED:20250717T020841Z
LAST-MODIFIED:20260214T010807Z
UID:10000754-1770940800-1771027200@whf.fuesd.org
SUMMARY:End of Trimester 2
DESCRIPTION:
URL:https://whf.fuesd.org/event/end-of-trimester-2-3/
END:VEVENT
END:VCALENDAR